BEGIN:VCALENDAR
VERSION:2.0
PRODID:-//Rotary - ECPv5.12.0//NONSGML v1.0//EN
CALSCALE:GREGORIAN
METHOD:PUBLISH
X-WR-CALNAME:Rotary
X-ORIGINAL-URL:https://westchathamrotary.org
X-WR-CALDESC:Events for Rotary
REFRESH-INTERVAL;VALUE=DURATION:PT1H
X-Robots-Tag:noindex
X-PUBLISHED-TTL:PT1H
BEGIN:VTIMEZONE
TZID:America/New_York
BEGIN:DAYLIGHT
TZOFFSETFROM:-0500
TZOFFSETTO:-0400
TZNAME:EDT
DTSTART:20240310T070000
END:DAYLIGHT
BEGIN:STANDARD
TZOFFSETFROM:-0400
TZOFFSETTO:-0500
TZNAME:EST
DTSTART:20241103T060000
END:STANDARD
END:VTIMEZONE
BEGIN:VEVENT
DTSTART;TZID=America/New_York:20240811T120000
DTEND;TZID=America/New_York:20240811T130000
DTSTAMP:20260423T094626
CREATED:20230607T141751Z
LAST-MODIFIED:20240818T232702Z
UID:54019-1723377600-1723381200@westchathamrotary.org
SUMMARY:Weekly Meeting 9-25-2024
DESCRIPTION:
URL:https://westchathamrotary.org/event/weekly-meeting-9-25-2024/
LOCATION:Savannah Quarters Country Club\, 8 Palladian Way\, Pooler\, GA\, 31322
CATEGORIES:Weekly Meeting
ATTACH;FMTTYPE=image/jpeg:https://westchathamrotary.org/wp-content/uploads/2020/08/yquNJBLW.jpg
END:VEVENT
BEGIN:VEVENT
DTSTART;VALUE=DATE:20240821
DTEND;VALUE=DATE:20240822
DTSTAMP:20260423T094626
CREATED:20240819T004114Z
LAST-MODIFIED:20240819T004114Z
UID:59032-1724198400-1724284799@westchathamrotary.org
SUMMARY:No Meeting
DESCRIPTION:No Meeting at Savannah Quarters
URL:https://westchathamrotary.org/event/no-meeting/
LOCATION:GA
END:VEVENT
BEGIN:VEVENT
DTSTART;TZID=America/New_York:20240822T180000
DTEND;TZID=America/New_York:20240822T200000
DTSTAMP:20260423T094626
CREATED:20240819T004708Z
LAST-MODIFIED:20240819T004708Z
UID:59036-1724349600-1724356800@westchathamrotary.org
SUMMARY:Off Site | Premiere Bowl & Bistro
DESCRIPTION:We hope you can join us for some fellowship as we enjoy all the fun that Premier Lanes has to offer bowling\, games\, pool tables\, darts. food\, and bar. \n4 Towne Center Drive
URL:https://westchathamrotary.org/event/off-site-premiere-bowl-bistro/
LOCATION:GA
END:VEVENT
BEGIN:VEVENT
DTSTART;VALUE=DATE:20240828
DTEND;VALUE=DATE:20240829
DTSTAMP:20260423T094626
CREATED:20240828T142243Z
LAST-MODIFIED:20240824T233455Z
UID:54025-1724803200-1724889599@westchathamrotary.org
SUMMARY:Weekly Meeting
DESCRIPTION:
URL:https://westchathamrotary.org/event/weekly-meeting-8-28-2024/
LOCATION:GA
CATEGORIES:Weekly Meeting
ATTACH;FMTTYPE=image/jpeg:https://westchathamrotary.org/wp-content/uploads/2020/08/yquNJBLW.jpg
END:VEVENT
BEGIN:VEVENT
DTSTART;TZID=America/New_York:20240828T120000
DTEND;TZID=America/New_York:20240828T130000
DTSTAMP:20260423T094626
CREATED:20240825T003623Z
LAST-MODIFIED:20240825T003726Z
UID:59193-1724846400-1724850000@westchathamrotary.org
SUMMARY:Weekly Meeting
DESCRIPTION:
URL:https://westchathamrotary.org/event/weekly-meeting-4/
LOCATION:Savannah Quarters Country Club\, 8 Palladian Way\, Pooler\, GA\, 31322
END:VEVENT
END:VCALENDAR