BEGIN:VCALENDAR
VERSION:2.0
PRODID:-//Rotary - ECPv5.12.0//NONSGML v1.0//EN
CALSCALE:GREGORIAN
METHOD:PUBLISH
X-WR-CALNAME:Rotary
X-ORIGINAL-URL:https://westchathamrotary.org
X-WR-CALDESC:Events for Rotary
REFRESH-INTERVAL;VALUE=DURATION:PT1H
X-Robots-Tag:noindex
X-PUBLISHED-TTL:PT1H
BEGIN:VTIMEZONE
TZID:America/New_York
BEGIN:DAYLIGHT
TZOFFSETFROM:-0500
TZOFFSETTO:-0400
TZNAME:EDT
DTSTART:20230312T070000
END:DAYLIGHT
BEGIN:STANDARD
TZOFFSETFROM:-0400
TZOFFSETTO:-0500
TZNAME:EST
DTSTART:20231105T060000
END:STANDARD
END:VTIMEZONE
BEGIN:VEVENT
DTSTART;TZID=America/New_York:20230705T120000
DTEND;TZID=America/New_York:20230705T130000
DTSTAMP:20260425T233204
CREATED:20230607T140645Z
LAST-MODIFIED:20230621T201448Z
UID:54008-1688558400-1688562000@westchathamrotary.org
SUMMARY:NO MEETING THIS WEEK - Weekly Meeting 7-5-2023
DESCRIPTION:
URL:https://westchathamrotary.org/event/weekly-meeting-7-5-2023/
LOCATION:Savannah Quarters Country Club\, 8 Palladian Way\, Pooler\, GA\, 31322
CATEGORIES:Weekly Meeting
ATTACH;FMTTYPE=image/jpeg:https://westchathamrotary.org/wp-content/uploads/2020/08/yquNJBLW.jpg
END:VEVENT
BEGIN:VEVENT
DTSTART;TZID=America/New_York:20230712T120000
DTEND;TZID=America/New_York:20230712T130000
DTSTAMP:20260425T233204
CREATED:20230607T140929Z
LAST-MODIFIED:20230621T201154Z
UID:54010-1689163200-1689166800@westchathamrotary.org
SUMMARY:Weekly Meeting 7-12-2023
DESCRIPTION:Shelly Fickau\n					\n					https://www.ymcaofcoastalga.org \n \n					Facebook\n				\n			\n				\n				\n				\n				\n				West Chatham YMCA\n			\n				\n				\n				\n				\n				We are delighted to announce that our upcoming Rotary meeting will feature a distinguished guest speaker\, Shelly Fickau\, Branch Director of the West Chatham YMCA. With great enthusiasm\, Shelly will be sharing valuable insights and information about the exciting summer programs offered by the YMCA this year. Her extensive experience and leadership in this role make her the perfect individual to guide us through the innovative initiatives and opportunities that await our community this summer. Join us as we gain a deeper understanding of the impactful programs and initiatives spearheaded by Shelly Fickau\, and discover how we can support and engage with the West Chatham YMCA for the betterment of our community.
URL:https://westchathamrotary.org/event/weekly-meeting-7-12-2023/
LOCATION:Savannah Quarters Country Club\, 8 Palladian Way\, Pooler\, GA\, 31322
CATEGORIES:Weekly Meeting
ATTACH;FMTTYPE=image/jpeg:https://westchathamrotary.org/wp-content/uploads/2023/06/285631618_10160446544286122_3706165080690862232_n.jpg
END:VEVENT
BEGIN:VEVENT
DTSTART;TZID=America/New_York:20230719T120000
DTEND;TZID=America/New_York:20230719T130000
DTSTAMP:20260425T233204
CREATED:20230607T141149Z
LAST-MODIFIED:20230607T141149Z
UID:54013-1689768000-1689771600@westchathamrotary.org
SUMMARY:Weekly Meeting 7-19-2023
DESCRIPTION:
URL:https://westchathamrotary.org/event/weekly-meeting-7-19-2023/
LOCATION:Savannah Quarters Country Club\, 8 Palladian Way\, Pooler\, GA\, 31322
CATEGORIES:Weekly Meeting
ATTACH;FMTTYPE=image/jpeg:https://westchathamrotary.org/wp-content/uploads/2020/08/yquNJBLW.jpg
END:VEVENT
BEGIN:VEVENT
DTSTART;TZID=America/New_York:20230726T120000
DTEND;TZID=America/New_York:20230726T130000
DTSTAMP:20260425T233204
CREATED:20230607T141326Z
LAST-MODIFIED:20230607T141326Z
UID:54015-1690372800-1690376400@westchathamrotary.org
SUMMARY:Weekly Meeting 7-26-2023
DESCRIPTION:
URL:https://westchathamrotary.org/event/weekly-meeting-7-26-2023/
LOCATION:Savannah Quarters Country Club\, 8 Palladian Way\, Pooler\, GA\, 31322
CATEGORIES:Weekly Meeting
ATTACH;FMTTYPE=image/jpeg:https://westchathamrotary.org/wp-content/uploads/2020/08/yquNJBLW.jpg
END:VEVENT
END:VCALENDAR