BEGIN:VCALENDAR
VERSION:2.0
PRODID:-//Rotary - ECPv5.12.0//NONSGML v1.0//EN
CALSCALE:GREGORIAN
METHOD:PUBLISH
X-WR-CALNAME:Rotary
X-ORIGINAL-URL:https://westchathamrotary.org
X-WR-CALDESC:Events for Rotary
REFRESH-INTERVAL;VALUE=DURATION:PT1H
X-Robots-Tag:noindex
X-PUBLISHED-TTL:PT1H
BEGIN:VTIMEZONE
TZID:America/New_York
BEGIN:DAYLIGHT
TZOFFSETFROM:-0500
TZOFFSETTO:-0400
TZNAME:EDT
DTSTART:20240310T070000
END:DAYLIGHT
BEGIN:STANDARD
TZOFFSETFROM:-0400
TZOFFSETTO:-0500
TZNAME:EST
DTSTART:20241103T060000
END:STANDARD
END:VTIMEZONE
BEGIN:VEVENT
DTSTART;TZID=America/New_York:20240904T120000
DTEND;TZID=America/New_York:20240904T130000
DTSTAMP:20260421T234031
CREATED:20230607T142058Z
LAST-MODIFIED:20240824T233243Z
UID:54023-1725451200-1725454800@westchathamrotary.org
SUMMARY:No Meeting
DESCRIPTION:
URL:https://westchathamrotary.org/event/weekly-meeting-9-4-2024/
LOCATION:GA
CATEGORIES:Weekly Meeting
ATTACH;FMTTYPE=image/jpeg:https://westchathamrotary.org/wp-content/uploads/2020/08/yquNJBLW.jpg
END:VEVENT
BEGIN:VEVENT
DTSTART;TZID=America/New_York:20240925T120000
DTEND;TZID=America/New_York:20240925T130000
DTSTAMP:20260421T234031
CREATED:20240916T011003Z
LAST-MODIFIED:20240916T011341Z
UID:59496-1727265600-1727269200@westchathamrotary.org
SUMMARY:Weekly Meeting | Golf Tournament Prep
DESCRIPTION:
URL:https://westchathamrotary.org/event/weekly-meeting-golf-tournament-prep/
LOCATION:Savannah Quarters Country Club\, 8 Palladian Way\, Pooler\, GA\, 31322
CATEGORIES:Weekly Meeting
ATTACH;FMTTYPE=image/jpeg:https://westchathamrotary.org/wp-content/uploads/2020/08/cropped-yquNJBLW.jpg
END:VEVENT
END:VCALENDAR