BEGIN:VCALENDAR
VERSION:2.0
PRODID:-//Rotary - ECPv5.12.0//NONSGML v1.0//EN
CALSCALE:GREGORIAN
METHOD:PUBLISH
X-WR-CALNAME:Rotary
X-ORIGINAL-URL:https://westchathamrotary.org
X-WR-CALDESC:Events for Rotary
REFRESH-INTERVAL;VALUE=DURATION:PT1H
X-Robots-Tag:noindex
X-PUBLISHED-TTL:PT1H
BEGIN:VTIMEZONE
TZID:America/New_York
BEGIN:DAYLIGHT
TZOFFSETFROM:-0500
TZOFFSETTO:-0400
TZNAME:EDT
DTSTART:20260308T070000
END:DAYLIGHT
BEGIN:STANDARD
TZOFFSETFROM:-0400
TZOFFSETTO:-0500
TZNAME:EST
DTSTART:20261101T060000
END:STANDARD
END:VTIMEZONE
BEGIN:VEVENT
DTSTART;TZID=America/New_York:20260204T120000
DTEND;TZID=America/New_York:20260204T130000
DTSTAMP:20260420T035440
CREATED:20251208T163633Z
LAST-MODIFIED:20251208T163633Z
UID:62782-1770206400-1770210000@westchathamrotary.org
SUMMARY:Annual Meeting
DESCRIPTION:
URL:https://westchathamrotary.org/event/annual-meeting-4/
LOCATION:Savannah Quarters Country Club\, 8 Palladian Way\, Pooler\, GA\, 31322
END:VEVENT
END:VCALENDAR