BEGIN:VCALENDAR
VERSION:2.0
PRODID:-//Rotary - ECPv5.12.0//NONSGML v1.0//EN
CALSCALE:GREGORIAN
METHOD:PUBLISH
X-WR-CALNAME:Rotary
X-ORIGINAL-URL:https://westchathamrotary.org
X-WR-CALDESC:Events for Rotary
REFRESH-INTERVAL;VALUE=DURATION:PT1H
X-Robots-Tag:noindex
X-PUBLISHED-TTL:PT1H
BEGIN:VTIMEZONE
TZID:America/New_York
BEGIN:DAYLIGHT
TZOFFSETFROM:-0500
TZOFFSETTO:-0400
TZNAME:EDT
DTSTART:20240310T070000
END:DAYLIGHT
BEGIN:STANDARD
TZOFFSETFROM:-0400
TZOFFSETTO:-0500
TZNAME:EST
DTSTART:20241103T060000
END:STANDARD
END:VTIMEZONE
BEGIN:VEVENT
DTSTART;TZID=America/New_York:20240822T180000
DTEND;TZID=America/New_York:20240822T200000
DTSTAMP:20260423T111211
CREATED:20240819T004708Z
LAST-MODIFIED:20240819T004708Z
UID:59036-1724349600-1724356800@westchathamrotary.org
SUMMARY:Off Site | Premiere Bowl & Bistro
DESCRIPTION:We hope you can join us for some fellowship as we enjoy all the fun that Premier Lanes has to offer bowling\, games\, pool tables\, darts. food\, and bar. \n4 Towne Center Drive
URL:https://westchathamrotary.org/event/off-site-premiere-bowl-bistro/
LOCATION:GA
END:VEVENT
END:VCALENDAR